BEGIN:VCALENDAR
VERSION:2.0
PRODID:-//usmtcc.ma - ECPv6.15.20//NONSGML v1.0//EN
CALSCALE:GREGORIAN
METHOD:PUBLISH
X-WR-CALNAME:usmtcc.ma
X-ORIGINAL-URL:https://usmtcc.ma
X-WR-CALDESC:Events for usmtcc.ma
REFRESH-INTERVAL;VALUE=DURATION:PT1H
X-Robots-Tag:noindex
X-PUBLISHED-TTL:PT1H
BEGIN:VTIMEZONE
TZID:UTC
BEGIN:STANDARD
TZOFFSETFROM:+0000
TZOFFSETTO:+0000
TZNAME:UTC
DTSTART:20250101T000000
END:STANDARD
END:VTIMEZONE
BEGIN:VEVENT
DTSTART;VALUE=DATE:20260418
DTEND;VALUE=DATE:20260501
DTSTAMP:20260420T154250
CREATED:20260413T221946Z
LAST-MODIFIED:20260413T221946Z
UID:430-1776470400-1777593599@usmtcc.ma
SUMMARY:Tournoi Printemps Open
DESCRIPTION:Simple messieurs et dames\, toutes categories. Inscriptions ouvertes jusqu’au 15 avril.
URL:https://usmtcc.ma/event/tournoi-printemps-open/
END:VEVENT
BEGIN:VEVENT
DTSTART;TZID=UTC:20260503T080000
DTEND;TZID=UTC:20260510T170000
DTSTAMP:20260420T154250
CREATED:20260413T230545Z
LAST-MODIFIED:20260413T230545Z
UID:445-1777795200-1778432400@usmtcc.ma
SUMMARY:Interclubs Regionale
DESCRIPTION:Competition par equipes contre les meilleurs clubs de la region Casablanca-Settat.
URL:https://usmtcc.ma/event/interclubs-regionale/
END:VEVENT
BEGIN:VEVENT
DTSTART;TZID=UTC:20260514T080000
DTEND;TZID=UTC:20260524T170000
DTSTAMP:20260420T154250
CREATED:20260413T230715Z
LAST-MODIFIED:20260413T230715Z
UID:447-1778745600-1779642000@usmtcc.ma
SUMMARY:Gala Annuel du Club
DESCRIPTION:
URL:https://usmtcc.ma/event/gala-annuel-du-club/
END:VEVENT
END:VCALENDAR